Package: optimalFlow Version: 1.21.0 Command: /Library/Frameworks/R.framework/Resources/bin/R CMD INSTALL optimalFlow StartedAt: 2025-10-24 15:10:10 -0400 (Fri, 24 Oct 2025) EndedAt: 2025-10-24 15:10:18 -0400 (Fri, 24 Oct 2025) EllapsedTime: 8.3 seconds RetCode: 0 Status: OK