Package: optimalFlow Version: 1.21.0 Command: rm -rf optimalFlow.buildbin-libdir && mkdir optimalFlow.buildbin-libdir && /Users/biocbuild/BBS/utils/build-universal.sh optimalFlow_1.21.0.tar.gz /Library/Frameworks/R.framework/Resources/bin/R optimalFlow.buildbin-libdir StartedAt: 2025-10-24 23:13:16 -0400 (Fri, 24 Oct 2025) EndedAt: 2025-10-24 23:13:26 -0400 (Fri, 24 Oct 2025) EllapsedTime: 10.2 seconds RetCode: 0 Status: OK PackageFile: optimalFlow_1.21.0.tgz PackageFileSize: 1.103 MiB