Package: optimalFlow Version: 1.22.0 Maintainer: Hristo Inouzhe MaintainerEmail: hristo.inouzhe at gmail.com git_url: https://git.bioconductor.org/packages/optimalFlow git_branch: RELEASE_3_22 git_last_commit: ea616b7 git_last_commit_date: 2025-10-29 10:59:26 -0400 (Wed, 29 Oct 2025)