Package: oposSOM Version: 2.27.0 Command: /home/biocbuild/bbs-3.22-bioc/R/bin/R CMD INSTALL oposSOM StartedAt: 2025-10-24 15:37:43 -0400 (Fri, 24 Oct 2025) EndedAt: 2025-10-24 15:38:16 -0400 (Fri, 24 Oct 2025) EllapsedTime: 32.7 seconds RetCode: 0 Status: OK