Package: openPrimeR Version: 1.32.0 Command: /Library/Frameworks/R.framework/Resources/bin/R CMD INSTALL openPrimeR StartedAt: 2025-11-03 15:45:37 -0500 (Mon, 03 Nov 2025) EndedAt: 2025-11-03 15:46:20 -0500 (Mon, 03 Nov 2025) EllapsedTime: 43.1 seconds RetCode: 0 Status: OK