Package: openPrimeR Version: 1.32.0 Command: rm -rf openPrimeR.buildbin-libdir && mkdir openPrimeR.buildbin-libdir && /Users/biocbuild/BBS/utils/build-universal.sh openPrimeR_1.32.0.tar.gz /Library/Frameworks/R.framework/Resources/bin/R openPrimeR.buildbin-libdir StartedAt: 2025-11-04 01:54:25 -0500 (Tue, 04 Nov 2025) EndedAt: 2025-11-04 01:55:15 -0500 (Tue, 04 Nov 2025) EllapsedTime: 49.4 seconds RetCode: 0 Status: OK PackageFile: openPrimeR_1.32.0.tgz PackageFileSize: 3.567 MiB