Package: openPrimeR Version: 1.31.1 Command: /Library/Frameworks/R.framework/Resources/bin/R CMD INSTALL openPrimeR StartedAt: 2025-10-24 15:28:57 -0400 (Fri, 24 Oct 2025) EndedAt: 2025-10-24 15:29:08 -0400 (Fri, 24 Oct 2025) EllapsedTime: 11.6 seconds RetCode: 0 Status: OK