Package: openPrimeR Version: 1.31.1 Command: /Library/Frameworks/R.framework/Resources/bin/R CMD build --keep-empty-dirs --no-resave-data openPrimeR StartedAt: 2025-10-24 17:16:20 -0400 (Fri, 24 Oct 2025) EndedAt: 2025-10-24 17:16:58 -0400 (Fri, 24 Oct 2025) EllapsedTime: 37.4 seconds RetCode: 0 Status: OK PackageFile: openPrimeR_1.31.1.tar.gz PackageFileSize: 2.199 MiB