Package: openPrimeR Version: 1.31.1 Command: rm -rf openPrimeR.buildbin-libdir && mkdir openPrimeR.buildbin-libdir && /Users/biocbuild/BBS/utils/build-universal.sh openPrimeR_1.31.1.tar.gz /Library/Frameworks/R.framework/Resources/bin/R openPrimeR.buildbin-libdir StartedAt: 2025-10-24 23:13:15 -0400 (Fri, 24 Oct 2025) EndedAt: 2025-10-24 23:13:28 -0400 (Fri, 24 Oct 2025) EllapsedTime: 13.3 seconds RetCode: 0 Status: OK PackageFile: openPrimeR_1.31.1.tgz PackageFileSize: 3.58 MiB