Package: openCyto Version: 2.21.1 Command: /home/biocbuild/bbs-3.22-bioc/R/bin/R CMD build --keep-empty-dirs --no-resave-data --md5 openCyto StartedAt: 2025-10-27 19:07:21 -0400 (Mon, 27 Oct 2025) EndedAt: 2025-10-27 19:08:37 -0400 (Mon, 27 Oct 2025) EllapsedTime: 76.1 seconds RetCode: 0 Status: OK PackageFile: openCyto_2.21.1.tar.gz PackageFileSize: 1.779 MiB