Package: openCyto Version: 2.22.0 Command: /Library/Frameworks/R.framework/Resources/bin/R CMD INSTALL openCyto StartedAt: 2025-11-10 15:11:17 -0500 (Mon, 10 Nov 2025) EndedAt: 2025-11-10 15:11:28 -0500 (Mon, 10 Nov 2025) EllapsedTime: 11.3 seconds RetCode: 0 Status: OK