Package: openCyto Version: 2.22.0 Command: /Library/Frameworks/R.framework/Resources/bin/R CMD build --keep-empty-dirs --no-resave-data openCyto StartedAt: 2025-11-10 17:15:53 -0500 (Mon, 10 Nov 2025) EndedAt: 2025-11-10 17:16:24 -0500 (Mon, 10 Nov 2025) EllapsedTime: 31.4 seconds RetCode: 0 Status: OK PackageFile: openCyto_2.22.0.tar.gz PackageFileSize: 2.469 MiB