Package: openCyto Version: 2.22.0 Command: rm -rf openCyto.buildbin-libdir && mkdir openCyto.buildbin-libdir && /Users/biocbuild/BBS/utils/build-universal.sh openCyto_2.22.0.tar.gz /Library/Frameworks/R.framework/Resources/bin/R openCyto.buildbin-libdir StartedAt: 2025-11-10 23:30:19 -0500 (Mon, 10 Nov 2025) EndedAt: 2025-11-10 23:30:31 -0500 (Mon, 10 Nov 2025) EllapsedTime: 12.3 seconds RetCode: 0 Status: OK PackageFile: openCyto_2.22.0.tgz PackageFileSize: 2.733 MiB