Package: ontoProc Version: 2.3.11 Command: /home/biocbuild/bbs-3.22-bioc/R/bin/R CMD INSTALL ontoProc StartedAt: 2025-10-27 15:39:10 -0400 (Mon, 27 Oct 2025) EndedAt: 2025-10-27 15:39:42 -0400 (Mon, 27 Oct 2025) EllapsedTime: 32.6 seconds RetCode: 0 Status: OK