Package: ontoProc Version: 2.3.11 Command: /home/biocbuild/bbs-3.22-bioc/R/bin/R CMD build --keep-empty-dirs --no-resave-data --md5 ontoProc StartedAt: 2025-10-27 19:07:21 -0400 (Mon, 27 Oct 2025) EndedAt: 2025-10-27 19:14:51 -0400 (Mon, 27 Oct 2025) EllapsedTime: 449.5 seconds RetCode: 0 Status: OK PackageFile: ontoProc_2.3.11.tar.gz PackageFileSize: 13.76 MiB