Package: ontoProc Version: 2.4.0 Command: /Library/Frameworks/R.framework/Resources/bin/R CMD INSTALL ontoProc StartedAt: 2025-11-03 15:19:27 -0500 (Mon, 03 Nov 2025) EndedAt: 2025-11-03 15:19:40 -0500 (Mon, 03 Nov 2025) EllapsedTime: 13.6 seconds RetCode: 0 Status: OK