Package: ontoProc Version: 2.4.0 Command: /Library/Frameworks/R.framework/Resources/bin/R CMD build --keep-empty-dirs --no-resave-data ontoProc StartedAt: 2025-11-02 17:14:56 -0500 (Sun, 02 Nov 2025) EndedAt: 2025-11-02 17:17:43 -0500 (Sun, 02 Nov 2025) EllapsedTime: 166.8 seconds RetCode: 0 Status: OK PackageFile: ontoProc_2.4.0.tar.gz PackageFileSize: 13.12 MiB