Package: ontoProc Version: 2.4.0 Command: rm -rf ontoProc.buildbin-libdir && mkdir ontoProc.buildbin-libdir && /Users/biocbuild/BBS/utils/build-universal.sh ontoProc_2.4.0.tar.gz /Library/Frameworks/R.framework/Resources/bin/R ontoProc.buildbin-libdir StartedAt: 2025-11-04 23:13:49 -0500 (Tue, 04 Nov 2025) EndedAt: 2025-11-04 23:14:04 -0500 (Tue, 04 Nov 2025) EllapsedTime: 15.3 seconds RetCode: 0 Status: OK PackageFile: ontoProc_2.4.0.tgz PackageFileSize: 11.06 MiB