Package: onlineFDR Version: 2.17.0 Command: /home/biocbuild/bbs-3.22-bioc/R/bin/R CMD INSTALL onlineFDR StartedAt: 2025-10-24 15:13:07 -0400 (Fri, 24 Oct 2025) EndedAt: 2025-10-24 15:14:09 -0400 (Fri, 24 Oct 2025) EllapsedTime: 62.0 seconds RetCode: 0 Status: OK