Package: oncoscanR Version: 1.11.1 Command: /home/biocbuild/bbs-3.22-bioc/R/bin/R CMD build --keep-empty-dirs --no-resave-data --md5 oncoscanR StartedAt: 2025-10-24 19:15:25 -0400 (Fri, 24 Oct 2025) EndedAt: 2025-10-24 19:18:04 -0400 (Fri, 24 Oct 2025) EllapsedTime: 159.2 seconds RetCode: 0 Status: OK PackageFile: oncoscanR_1.11.1.tar.gz PackageFileSize: 993.4 KiB