Package: oncoscanR Version: 1.12.0 Command: /Library/Frameworks/R.framework/Resources/bin/R CMD INSTALL oncoscanR StartedAt: 2025-11-10 15:10:43 -0500 (Mon, 10 Nov 2025) EndedAt: 2025-11-10 15:10:47 -0500 (Mon, 10 Nov 2025) EllapsedTime: 4.0 seconds RetCode: 0 Status: OK