Package: oncoscanR Version: 1.12.0 Command: /Library/Frameworks/R.framework/Resources/bin/R CMD build --keep-empty-dirs --no-resave-data oncoscanR StartedAt: 2025-11-10 17:15:41 -0500 (Mon, 10 Nov 2025) EndedAt: 2025-11-10 17:16:26 -0500 (Mon, 10 Nov 2025) EllapsedTime: 44.5 seconds RetCode: 0 Status: OK PackageFile: oncoscanR_1.12.0.tar.gz PackageFileSize: 990.3 KiB