Package: oncomix Version: 1.31.0 Command: /home/biocbuild/bbs-3.22-bioc/R/bin/R CMD INSTALL oncomix StartedAt: 2025-10-24 15:43:21 -0400 (Fri, 24 Oct 2025) EndedAt: 2025-10-24 15:43:47 -0400 (Fri, 24 Oct 2025) EllapsedTime: 25.1 seconds RetCode: 0 Status: OK