Package: oncomix Version: 1.31.0 Command: /home/biocbuild/bbs-3.22-bioc/R/bin/R CMD build --keep-empty-dirs --no-resave-data --md5 oncomix StartedAt: 2025-10-24 19:15:19 -0400 (Fri, 24 Oct 2025) EndedAt: 2025-10-24 19:16:03 -0400 (Fri, 24 Oct 2025) EllapsedTime: 44.0 seconds RetCode: 0 Status: OK PackageFile: oncomix_1.31.0.tar.gz PackageFileSize: 2.397 MiB