Package: oncomix Version: 1.32.0 Command: /Library/Frameworks/R.framework/Resources/bin/R CMD INSTALL oncomix StartedAt: 2025-11-10 15:18:21 -0500 (Mon, 10 Nov 2025) EndedAt: 2025-11-10 15:18:31 -0500 (Mon, 10 Nov 2025) EllapsedTime: 10.1 seconds RetCode: 0 Status: OK