Package: oncomix Version: 1.32.0 Command: rm -rf oncomix.buildbin-libdir && mkdir oncomix.buildbin-libdir && /Users/biocbuild/BBS/utils/build-universal.sh oncomix_1.32.0.tar.gz /Library/Frameworks/R.framework/Resources/bin/R oncomix.buildbin-libdir StartedAt: 2025-11-10 23:30:13 -0500 (Mon, 10 Nov 2025) EndedAt: 2025-11-10 23:30:24 -0500 (Mon, 10 Nov 2025) EllapsedTime: 11.2 seconds RetCode: 0 Status: OK PackageFile: oncomix_1.32.0.tgz PackageFileSize: 2.465 MiB