Package: ompBAM Version: 1.13.0 Command: /home/biocbuild/bbs-3.22-bioc/R/bin/R CMD check --install=check:ompBAM.install-out.txt --library=/home/biocbuild/bbs-3.22-bioc/R/site-library --timings ompBAM_1.13.0.tar.gz StartedAt: 2025-10-28 02:19:55 -0400 (Tue, 28 Oct 2025) EndedAt: 2025-10-28 02:20:39 -0400 (Tue, 28 Oct 2025) EllapsedTime: 44.1 seconds RetCode: 0 Status: OK CheckDir: ompBAM.Rcheck Warnings: 0