Package: ompBAM Version: 1.13.0 Command: /Library/Frameworks/R.framework/Resources/bin/R CMD INSTALL ompBAM StartedAt: 2025-10-24 15:12:26 -0400 (Fri, 24 Oct 2025) EndedAt: 2025-10-24 15:12:44 -0400 (Fri, 24 Oct 2025) EllapsedTime: 17.9 seconds RetCode: 0 Status: OK