Package: ompBAM Version: 1.13.0 Command: /Library/Frameworks/R.framework/Resources/bin/R CMD build --keep-empty-dirs --no-resave-data ompBAM StartedAt: 2025-10-27 17:59:43 -0400 (Mon, 27 Oct 2025) EndedAt: 2025-10-27 18:00:12 -0400 (Mon, 27 Oct 2025) EllapsedTime: 28.6 seconds RetCode: 0 Status: OK PackageFile: ompBAM_1.13.0.tar.gz PackageFileSize: 3.142 MiB