Package: ompBAM Version: 1.13.0 Command: rm -rf ompBAM.buildbin-libdir && mkdir ompBAM.buildbin-libdir && /Users/biocbuild/BBS/utils/build-universal.sh ompBAM_1.13.0.tar.gz /Library/Frameworks/R.framework/Resources/bin/R ompBAM.buildbin-libdir StartedAt: 2025-10-25 01:54:09 -0400 (Sat, 25 Oct 2025) EndedAt: 2025-10-25 01:54:15 -0400 (Sat, 25 Oct 2025) EllapsedTime: 5.8 seconds RetCode: 0 Status: OK PackageFile: ompBAM_1.13.0.tgz PackageFileSize: 3.144 MiB