Package: omicsViewer Version: 1.13.9 Command: /home/biocbuild/bbs-3.22-bioc/R/bin/R CMD INSTALL omicsViewer StartedAt: 2025-10-27 15:28:11 -0400 (Mon, 27 Oct 2025) EndedAt: 2025-10-27 15:28:44 -0400 (Mon, 27 Oct 2025) EllapsedTime: 33.0 seconds RetCode: 0 Status: OK