Package: omicsViewer Version: 1.13.2 Command: /Library/Frameworks/R.framework/Resources/bin/R CMD INSTALL omicsViewer StartedAt: 2025-10-24 15:18:22 -0400 (Fri, 24 Oct 2025) EndedAt: 2025-10-24 15:18:36 -0400 (Fri, 24 Oct 2025) EllapsedTime: 13.4 seconds RetCode: 0 Status: OK