Package: omicsViewer Version: 1.13.2 Command: /Library/Frameworks/R.framework/Resources/bin/R CMD build --keep-empty-dirs --no-resave-data omicsViewer StartedAt: 2025-10-24 17:15:52 -0400 (Fri, 24 Oct 2025) EndedAt: 2025-10-24 17:16:14 -0400 (Fri, 24 Oct 2025) EllapsedTime: 22.3 seconds RetCode: 0 Status: OK PackageFile: omicsViewer_1.13.2.tar.gz PackageFileSize: 4.326 MiB