Package: omicsViewer Version: 1.13.2 Maintainer: Chen Meng MaintainerEmail: mengchen18 at gmail.com git_url: https://git.bioconductor.org/packages/omicsViewer git_branch: devel git_last_commit: b7d1b38 git_last_commit_date: 2025-10-12 15:12:23 -0400 (Sun, 12 Oct 2025)