Package: omicsPrint Version: 1.29.0 Command: /home/biocbuild/bbs-3.22-bioc/R/bin/R CMD INSTALL omicsPrint StartedAt: 2025-10-27 15:23:02 -0400 (Mon, 27 Oct 2025) EndedAt: 2025-10-27 15:23:27 -0400 (Mon, 27 Oct 2025) EllapsedTime: 25.2 seconds RetCode: 0 Status: OK