Package: omicsGMF Version: 0.99.7 Command: /home/biocbuild/bbs-3.22-bioc/R/bin/R CMD INSTALL omicsGMF StartedAt: 2025-10-24 16:04:47 -0400 (Fri, 24 Oct 2025) EndedAt: 2025-10-24 16:05:20 -0400 (Fri, 24 Oct 2025) EllapsedTime: 33.6 seconds RetCode: 0 Status: OK