Package: omicsGMF Version: 0.99.7 Command: /home/biocbuild/bbs-3.22-bioc/R/bin/R CMD build --keep-empty-dirs --no-resave-data --md5 omicsGMF StartedAt: 2025-10-24 19:13:52 -0400 (Fri, 24 Oct 2025) EndedAt: 2025-10-24 19:15:16 -0400 (Fri, 24 Oct 2025) EllapsedTime: 84.0 seconds RetCode: 0 Status: OK PackageFile: omicsGMF_0.99.7.tar.gz PackageFileSize: 687.2 KiB