Package: omicplotR Version: 1.29.0 Command: /home/biocbuild/R/R/bin/R CMD build --keep-empty-dirs --no-resave-data omicplotR StartedAt: 2025-10-21 01:47:26 -0000 (Tue, 21 Oct 2025) EndedAt: 2025-10-21 01:47:59 -0000 (Tue, 21 Oct 2025) EllapsedTime: 33.0 seconds RetCode: 0 Status: OK PackageFile: omicplotR_1.29.0.tar.gz PackageFileSize: 1.704 MiB