Package: omicplotR Version: 1.29.0 Command: /home/biocbuild/bbs-3.22-bioc/R/bin/R CMD INSTALL omicplotR StartedAt: 2025-10-24 15:44:56 -0400 (Fri, 24 Oct 2025) EndedAt: 2025-10-24 15:45:19 -0400 (Fri, 24 Oct 2025) EllapsedTime: 22.7 seconds RetCode: 0 Status: OK