Package: omicplotR Version: 1.29.0 Command: /home/biocbuild/bbs-3.22-bioc/R/bin/R CMD check --install=check:omicplotR.install-out.txt --library=/home/biocbuild/bbs-3.22-bioc/R/site-library --timings omicplotR_1.29.0.tar.gz StartedAt: 2025-10-25 02:19:48 -0400 (Sat, 25 Oct 2025) EndedAt: 2025-10-25 02:21:29 -0400 (Sat, 25 Oct 2025) EllapsedTime: 101.1 seconds RetCode: 0 Status: OK CheckDir: omicplotR.Rcheck Warnings: 0