Package: omicplotR Version: 1.29.0 Command: /Library/Frameworks/R.framework/Resources/bin/R CMD check --install=check:omicplotR.install-out.txt --library=/Library/Frameworks/R.framework/Resources/library --no-vignettes --timings omicplotR_1.29.0.tar.gz StartedAt: 2025-10-24 23:01:53 -0400 (Fri, 24 Oct 2025) EndedAt: 2025-10-24 23:03:47 -0400 (Fri, 24 Oct 2025) EllapsedTime: 114.6 seconds RetCode: 0 Status: OK CheckDir: omicplotR.Rcheck Warnings: 0