Package: omicplotR Version: 1.29.0 Command: rm -rf omicplotR.buildbin-libdir && mkdir omicplotR.buildbin-libdir && /Users/biocbuild/BBS/utils/build-universal.sh omicplotR_1.29.0.tar.gz /Library/Frameworks/R.framework/Resources/bin/R omicplotR.buildbin-libdir StartedAt: 2025-10-25 01:53:57 -0400 (Sat, 25 Oct 2025) EndedAt: 2025-10-25 01:54:32 -0400 (Sat, 25 Oct 2025) EllapsedTime: 35.7 seconds RetCode: 0 Status: OK PackageFile: omicplotR_1.29.0.tgz PackageFileSize: 1.182 MiB