Package: omicplotR Version: 1.29.0 Command: /Library/Frameworks/R.framework/Resources/bin/R CMD INSTALL omicplotR StartedAt: 2025-10-24 15:21:50 -0400 (Fri, 24 Oct 2025) EndedAt: 2025-10-24 15:22:00 -0400 (Fri, 24 Oct 2025) EllapsedTime: 10.2 seconds RetCode: 0 Status: OK