Package: omicplotR Version: 1.29.0 Command: /Library/Frameworks/R.framework/Resources/bin/R CMD check --install=check:omicplotR.install-out.txt --library=/Library/Frameworks/R.framework/Resources/library --no-vignettes --timings omicplotR_1.29.0.tar.gz StartedAt: 2025-10-24 21:07:29 -0400 (Fri, 24 Oct 2025) EndedAt: 2025-10-24 21:08:09 -0400 (Fri, 24 Oct 2025) EllapsedTime: 40.4 seconds RetCode: 0 Status: OK CheckDir: omicplotR.Rcheck Warnings: 0