Package: omicade4 Version: 1.50.0 Command: /home/biocbuild/bbs-3.22-bioc/R/bin/R CMD check --install=check:omicade4.install-out.txt --library=/home/biocbuild/bbs-3.22-bioc/R/site-library --timings omicade4_1.50.0.tar.gz StartedAt: 2025-11-21 02:53:44 -0500 (Fri, 21 Nov 2025) EndedAt: 2025-11-21 02:56:28 -0500 (Fri, 21 Nov 2025) EllapsedTime: 164.2 seconds RetCode: 0 Status: OK CheckDir: omicade4.Rcheck Warnings: 0