Package: omicade4 Version: 1.49.0 Command: /home/biocbuild/bbs-3.22-bioc/R/bin/R CMD build --keep-empty-dirs --no-resave-data --md5 omicade4 StartedAt: 2025-10-24 19:13:34 -0400 (Fri, 24 Oct 2025) EndedAt: 2025-10-24 19:14:07 -0400 (Fri, 24 Oct 2025) EllapsedTime: 33.1 seconds RetCode: 0 Status: OK PackageFile: omicade4_1.49.0.tar.gz PackageFileSize: 545.4 KiB