Package: omicade4 Version: 1.50.0 Command: /Library/Frameworks/R.framework/Resources/bin/R CMD INSTALL omicade4 StartedAt: 2025-10-31 15:29:15 -0400 (Fri, 31 Oct 2025) EndedAt: 2025-10-31 15:29:43 -0400 (Fri, 31 Oct 2025) EllapsedTime: 28.5 seconds RetCode: 0 Status: OK