Package: omicade4 Version: 1.50.0 Command: /Library/Frameworks/R.framework/Resources/bin/R CMD build --keep-empty-dirs --no-resave-data omicade4 StartedAt: 2025-11-03 18:04:23 -0500 (Mon, 03 Nov 2025) EndedAt: 2025-11-03 18:05:04 -0500 (Mon, 03 Nov 2025) EllapsedTime: 41.3 seconds RetCode: 0 Status: OK PackageFile: omicade4_1.50.0.tar.gz PackageFileSize: 543.8 KiB