Package: omicade4 Version: 1.49.0 Command: rm -rf omicade4.buildbin-libdir && mkdir omicade4.buildbin-libdir && /Users/biocbuild/BBS/utils/build-universal.sh omicade4_1.49.0.tar.gz /Library/Frameworks/R.framework/Resources/bin/R omicade4.buildbin-libdir StartedAt: 2025-10-24 23:12:56 -0400 (Fri, 24 Oct 2025) EndedAt: 2025-10-24 23:13:07 -0400 (Fri, 24 Oct 2025) EllapsedTime: 10.2 seconds RetCode: 0 Status: OK PackageFile: omicade4_1.49.0.tgz PackageFileSize: 613.1 KiB