Package: omicade4 Version: 1.50.0 Maintainer: Chen Meng MaintainerEmail: mengchen18 at gmail.com git_url: https://git.bioconductor.org/packages/omicade4 git_branch: RELEASE_3_22 git_last_commit: da74ccc git_last_commit_date: 2025-10-29 10:16:27 -0400 (Wed, 29 Oct 2025)